BEGIN:VCALENDAR
VERSION:2.0
PRODID:-//Hank's Filling Station - ECPv6.15.20//NONSGML v1.0//EN
CALSCALE:GREGORIAN
METHOD:PUBLISH
X-ORIGINAL-URL:https://hanksfillingstation.com
X-WR-CALDESC:Events for Hank's Filling Station
REFRESH-INTERVAL;VALUE=DURATION:PT1H
X-Robots-Tag:noindex
X-PUBLISHED-TTL:PT1H
BEGIN:VTIMEZONE
TZID:America/New_York
BEGIN:DAYLIGHT
TZOFFSETFROM:-0500
TZOFFSETTO:-0400
TZNAME:EDT
DTSTART:20240310T070000
END:DAYLIGHT
BEGIN:STANDARD
TZOFFSETFROM:-0400
TZOFFSETTO:-0500
TZNAME:EST
DTSTART:20241103T060000
END:STANDARD
BEGIN:DAYLIGHT
TZOFFSETFROM:-0500
TZOFFSETTO:-0400
TZNAME:EDT
DTSTART:20250309T070000
END:DAYLIGHT
BEGIN:STANDARD
TZOFFSETFROM:-0400
TZOFFSETTO:-0500
TZNAME:EST
DTSTART:20251102T060000
END:STANDARD
BEGIN:DAYLIGHT
TZOFFSETFROM:-0500
TZOFFSETTO:-0400
TZNAME:EDT
DTSTART:20260308T070000
END:DAYLIGHT
BEGIN:STANDARD
TZOFFSETFROM:-0400
TZOFFSETTO:-0500
TZNAME:EST
DTSTART:20261101T060000
END:STANDARD
END:VTIMEZONE
BEGIN:VEVENT
DTSTART;TZID=America/New_York:20250712T120000
DTEND;TZID=America/New_York:20250712T170000
DTSTAMP:20260422T132226
CREATED:20250616T154353Z
LAST-MODIFIED:20250620T120209Z
UID:10000164-1752321600-1752339600@hanksfillingstation.com
SUMMARY:Hank's Crush Fest & Lū’au
DESCRIPTION:Hank’s Crush Fest & Lū’au is Saturday\, July 12th at noon. We will have all your favorite crushes (featuring Norfolk’s Best Orange Crush\, Pretty in Peach Crush\, Soothing Urban Bourbon Crush\, and Grapefruit Crush)\, live Steel Drums with JuJu Drum and also Jennifer Gammill will perform\, and we’ll be serving an all-you-can-eat pig pickin’ from our backyard smoker. \nEach admission ticket will include entry into the Crush Fest & Lū’au\, one Hank’s Featured Crush\, All-You-Can-Eat buffet\, and live music. \nOur full menu will also be available for counter ordering. \n\n$35 Admission Ticket: includes entry into the Crush Fest & Lū’au\, one Hank’s Featured Crush\, and All-You-Can-Eat buffet.\n$275 Reserved Table: includes a special reserved table + 6 Admission Tickets w/ entry into the Crush Fest & Lū’au\, one Hank’s Featured Crush\, and All-You-Can-Eat buffet for each person.
URL:https://hanksfillingstation.com/event/crush-fest-luau-2025/
LOCATION:Hank’s Filling Station\, 4301 Colley Ave\, Norfolk\, VA\, 23508\, United States
ATTACH;FMTTYPE=image/jpeg:https://hanksfillingstation.com/wp-content/uploads/2025/06/Hanks-Crush-Fest-Luau-2025-07-16x9-1.jpg
ORGANIZER;CN="Hank's Filling Station":MAILTO:marketing@hanksfillingstation.com
END:VEVENT
END:VCALENDAR