BEGIN:VCALENDAR
VERSION:2.0
PRODID:-//Hank's Filling Station - ECPv6.15.20//NONSGML v1.0//EN
CALSCALE:GREGORIAN
METHOD:PUBLISH
X-ORIGINAL-URL:https://hanksfillingstation.com
X-WR-CALDESC:Events for Hank's Filling Station
REFRESH-INTERVAL;VALUE=DURATION:PT1H
X-Robots-Tag:noindex
X-PUBLISHED-TTL:PT1H
BEGIN:VTIMEZONE
TZID:America/New_York
BEGIN:DAYLIGHT
TZOFFSETFROM:-0500
TZOFFSETTO:-0400
TZNAME:EDT
DTSTART:20240310T070000
END:DAYLIGHT
BEGIN:STANDARD
TZOFFSETFROM:-0400
TZOFFSETTO:-0500
TZNAME:EST
DTSTART:20241103T060000
END:STANDARD
BEGIN:DAYLIGHT
TZOFFSETFROM:-0500
TZOFFSETTO:-0400
TZNAME:EDT
DTSTART:20250309T070000
END:DAYLIGHT
BEGIN:STANDARD
TZOFFSETFROM:-0400
TZOFFSETTO:-0500
TZNAME:EST
DTSTART:20251102T060000
END:STANDARD
BEGIN:DAYLIGHT
TZOFFSETFROM:-0500
TZOFFSETTO:-0400
TZNAME:EDT
DTSTART:20260308T070000
END:DAYLIGHT
BEGIN:STANDARD
TZOFFSETFROM:-0400
TZOFFSETTO:-0500
TZNAME:EST
DTSTART:20261101T060000
END:STANDARD
END:VTIMEZONE
BEGIN:VEVENT
DTSTART;TZID=America/New_York:20251022T190000
DTEND;TZID=America/New_York:20251022T203000
DTSTAMP:20260421T055826
CREATED:20251115T143408Z
LAST-MODIFIED:20251119T144920Z
UID:10000168-1761159600-1761165000@hanksfillingstation.com
SUMMARY:Hank's Trivia Theme Nights
DESCRIPTION:TRIVIA THEME NIGHTS are BACK at Hank’s! \nEvery 3rd Wednesday at 7pm – come hungry\, come clever\, come ready to rumble. \nMark these down\, BBQ brainiacs: \nJul 23 – All About The Beers! (Beer nerds unite!) \nAug 20 – Swifties vs Beyhive (Only one fandom walks away …) \nSep 17 – Marvel Masters (No casuals allowed.) \nOct 22 – Monster Mash (It’s alive … with trivia!) \nSmoked meats. Bourbon pours. Prizes on the line. \nIt’s your backyard\, your bragging rights\, your kind of Wednesday. \nTag your trivia crew and start studying \nHank’s Filling Station | 4301 Colley Ave | Norfolk
URL:https://hanksfillingstation.com/event/hanks-trivia-theme-nights-2/
LOCATION:Hank’s Filling Station\, 4301 Colley Ave\, Norfolk\, VA\, 23508\, United States
ATTACH;FMTTYPE=image/jpeg:https://hanksfillingstation.com/wp-content/uploads/2025/07/Hanks-trivia-theme-nights-2025-07-16x9-1.jpg
ORGANIZER;CN="Hank's Filling Station":MAILTO:marketing@hanksfillingstation.com
END:VEVENT
END:VCALENDAR