BEGIN:VCALENDAR
VERSION:2.0
PRODID:-//Hank's Filling Station - ECPv6.15.20//NONSGML v1.0//EN
CALSCALE:GREGORIAN
METHOD:PUBLISH
X-WR-CALNAME:Hank's Filling Station
X-ORIGINAL-URL:https://hanksfillingstation.com
X-WR-CALDESC:Events for Hank's Filling Station
REFRESH-INTERVAL;VALUE=DURATION:PT1H
X-Robots-Tag:noindex
X-PUBLISHED-TTL:PT1H
BEGIN:VTIMEZONE
TZID:America/New_York
BEGIN:DAYLIGHT
TZOFFSETFROM:-0500
TZOFFSETTO:-0400
TZNAME:EDT
DTSTART:20240310T070000
END:DAYLIGHT
BEGIN:STANDARD
TZOFFSETFROM:-0400
TZOFFSETTO:-0500
TZNAME:EST
DTSTART:20241103T060000
END:STANDARD
BEGIN:DAYLIGHT
TZOFFSETFROM:-0500
TZOFFSETTO:-0400
TZNAME:EDT
DTSTART:20250309T070000
END:DAYLIGHT
BEGIN:STANDARD
TZOFFSETFROM:-0400
TZOFFSETTO:-0500
TZNAME:EST
DTSTART:20251102T060000
END:STANDARD
BEGIN:DAYLIGHT
TZOFFSETFROM:-0500
TZOFFSETTO:-0400
TZNAME:EDT
DTSTART:20260308T070000
END:DAYLIGHT
BEGIN:STANDARD
TZOFFSETFROM:-0400
TZOFFSETTO:-0500
TZNAME:EST
DTSTART:20261101T060000
END:STANDARD
END:VTIMEZONE
BEGIN:VEVENT
DTSTART;TZID=America/New_York:20251221T120000
DTEND;TZID=America/New_York:20251221T160000
DTSTAMP:20260422T044305
CREATED:20251119T161732Z
LAST-MODIFIED:20251119T161732Z
UID:10000201-1766318400-1766332800@hanksfillingstation.com
SUMMARY:Santa Paws is Coming to Hank's for a Tail-waggin' Good Time
DESCRIPTION:Santa Paws is rolling into Hank’s on December 21st Bring your pups and let them live their best holiday life. \nSnap that perfect photo of your dog whispering their Christmas wishes to Doggie Santa. \nMaybe they want treats. Maybe they want toys. Maybe they want belly rubs from the big guy himself. \nThis free event is all about joy laughter and four-legged fun. Bring a blanket bring your crew and hang out with the happiest pack in North Colley. \nWill your pup land on the nice list? Only Santa knows. \nLOCATIONHank’s Filling Station4301 Colley AveNorfolk VA 23508 \nDATE AND TIMESunday\, December 21st12 pm to 4 pmSanta at Hank’s from 1:30 pm to 3:30 pm
URL:https://hanksfillingstation.com/event/santa-paws-2025/
LOCATION:Hank’s Filling Station\, 4301 Colley Ave\, Norfolk\, VA\, 23508\, United States
ATTACH;FMTTYPE=image/jpeg:https://hanksfillingstation.com/wp-content/uploads/2025/11/Hanks-Santa-Paws-2025-12-16x9-1.jpg
ORGANIZER;CN="Hank's Filling Station":MAILTO:marketing@hanksfillingstation.com
END:VEVENT
END:VCALENDAR