BEGIN:VCALENDAR
VERSION:2.0
PRODID:-//Hank's Filling Station - ECPv6.15.20//NONSGML v1.0//EN
CALSCALE:GREGORIAN
METHOD:PUBLISH
X-WR-CALNAME:Hank's Filling Station
X-ORIGINAL-URL:https://hanksfillingstation.com
X-WR-CALDESC:Events for Hank's Filling Station
REFRESH-INTERVAL;VALUE=DURATION:PT1H
X-Robots-Tag:noindex
X-PUBLISHED-TTL:PT1H
BEGIN:VTIMEZONE
TZID:America/New_York
BEGIN:DAYLIGHT
TZOFFSETFROM:-0500
TZOFFSETTO:-0400
TZNAME:EDT
DTSTART:20240310T070000
END:DAYLIGHT
BEGIN:STANDARD
TZOFFSETFROM:-0400
TZOFFSETTO:-0500
TZNAME:EST
DTSTART:20241103T060000
END:STANDARD
BEGIN:DAYLIGHT
TZOFFSETFROM:-0500
TZOFFSETTO:-0400
TZNAME:EDT
DTSTART:20250309T070000
END:DAYLIGHT
BEGIN:STANDARD
TZOFFSETFROM:-0400
TZOFFSETTO:-0500
TZNAME:EST
DTSTART:20251102T060000
END:STANDARD
BEGIN:DAYLIGHT
TZOFFSETFROM:-0500
TZOFFSETTO:-0400
TZNAME:EDT
DTSTART:20260308T070000
END:DAYLIGHT
BEGIN:STANDARD
TZOFFSETFROM:-0400
TZOFFSETTO:-0500
TZNAME:EST
DTSTART:20261101T060000
END:STANDARD
END:VTIMEZONE
BEGIN:VEVENT
DTSTART;TZID=America/New_York:20250802T163000
DTEND;TZID=America/New_York:20250802T183000
DTSTAMP:20260422T094132
CREATED:20250723T192625Z
LAST-MODIFIED:20250723T192625Z
UID:10000170-1754152200-1754159400@hanksfillingstation.com
SUMMARY:Crazy DJ Music Bingo @ Hank's
DESCRIPTION:CRAZY DJ MUSIC BINGO is taking over Saturdays at Hank’s! \nEvery Saturday @ 4:30pm – it’s bingo\, but with bangers. \nYour card is full of songs\, not numbers.\nThe DJ drops the beats.\n️ You shout BINGO (and maybe sing along). \nCold beer\, smoked BBQ\, backyard games\, and some absolutely unhinged playlists. \nExpect dance breaks. Expect yelling. Expect a good time Show up early\, grab your spot\, and get loud. \nHank’s Filling Station | 4301 Colley Ave | Norfolk
URL:https://hanksfillingstation.com/event/crazy-dj-music-bingo-hanks/2025-08-02/
LOCATION:Hank’s Filling Station\, 4301 Colley Ave\, Norfolk\, VA\, 23508\, United States
ATTACH;FMTTYPE=image/jpeg:https://hanksfillingstation.com/wp-content/uploads/2025/07/Hanks-crazy-dj-music-bingo-2025-07-16x9-1.jpg
ORGANIZER;CN="Hank's Filling Station":MAILTO:marketing@hanksfillingstation.com
END:VEVENT
BEGIN:VEVENT
DTSTART;TZID=America/New_York:20250803T160000
DTEND;TZID=America/New_York:20250803T200000
DTSTAMP:20260422T094132
CREATED:20250730T174703Z
LAST-MODIFIED:20250730T174703Z
UID:10000192-1754236800-1754251200@hanksfillingstation.com
SUMMARY:Hank's Game Night: Video Game Madness Every Sunday in August!
DESCRIPTION:Sundays in August | 4-8pm | Hank’s Filling Station \nGet ready to mash some buttons and throw down in the backyard\, because Game Night is ON at Hank’s every Sunday in August! \nThis month’s theme is Video Game Madness – and we’re going all in. We’ll supply the consoles\, controllers\, and games. All you need to bring is your A-game (and maybe a few trash talk one-liners). Whether you’re a retro junkie or a modern-day joystick warrior\, there’s something for every player. \nFree to play\nClassic + modern consoles\nPrizes for winners\nBBQ + Booze flowing all night \nShow up\, show off\, and show no mercy. \nSee you Sundays at 4pm – only at Hank’s Filling Station\, your Backyard BBQ & Booze Joint.
URL:https://hanksfillingstation.com/event/hanks-game-night-video-game-madness-every-sunday-in-august/2025-08-03/
LOCATION:Hank’s Filling Station\, 4301 Colley Ave\, Norfolk\, VA\, 23508\, United States
ATTACH;FMTTYPE=image/jpeg:https://hanksfillingstation.com/wp-content/uploads/2025/07/Hanks-Game-Night-2025-08-16x9-1.jpg
ORGANIZER;CN="Hank's Filling Station":MAILTO:marketing@hanksfillingstation.com
END:VEVENT
BEGIN:VEVENT
DTSTART;TZID=America/New_York:20250809T163000
DTEND;TZID=America/New_York:20250809T183000
DTSTAMP:20260422T094132
CREATED:20250723T192625Z
LAST-MODIFIED:20250723T192625Z
UID:10000171-1754757000-1754764200@hanksfillingstation.com
SUMMARY:Crazy DJ Music Bingo @ Hank's
DESCRIPTION:CRAZY DJ MUSIC BINGO is taking over Saturdays at Hank’s! \nEvery Saturday @ 4:30pm – it’s bingo\, but with bangers. \nYour card is full of songs\, not numbers.\nThe DJ drops the beats.\n️ You shout BINGO (and maybe sing along). \nCold beer\, smoked BBQ\, backyard games\, and some absolutely unhinged playlists. \nExpect dance breaks. Expect yelling. Expect a good time Show up early\, grab your spot\, and get loud. \nHank’s Filling Station | 4301 Colley Ave | Norfolk
URL:https://hanksfillingstation.com/event/crazy-dj-music-bingo-hanks/2025-08-09/
LOCATION:Hank’s Filling Station\, 4301 Colley Ave\, Norfolk\, VA\, 23508\, United States
ATTACH;FMTTYPE=image/jpeg:https://hanksfillingstation.com/wp-content/uploads/2025/07/Hanks-crazy-dj-music-bingo-2025-07-16x9-1.jpg
ORGANIZER;CN="Hank's Filling Station":MAILTO:marketing@hanksfillingstation.com
END:VEVENT
BEGIN:VEVENT
DTSTART;TZID=America/New_York:20250810T160000
DTEND;TZID=America/New_York:20250810T200000
DTSTAMP:20260422T094132
CREATED:20250730T174703Z
LAST-MODIFIED:20250730T174703Z
UID:10000193-1754841600-1754856000@hanksfillingstation.com
SUMMARY:Hank's Game Night: Video Game Madness Every Sunday in August!
DESCRIPTION:Sundays in August | 4-8pm | Hank’s Filling Station \nGet ready to mash some buttons and throw down in the backyard\, because Game Night is ON at Hank’s every Sunday in August! \nThis month’s theme is Video Game Madness – and we’re going all in. We’ll supply the consoles\, controllers\, and games. All you need to bring is your A-game (and maybe a few trash talk one-liners). Whether you’re a retro junkie or a modern-day joystick warrior\, there’s something for every player. \nFree to play\nClassic + modern consoles\nPrizes for winners\nBBQ + Booze flowing all night \nShow up\, show off\, and show no mercy. \nSee you Sundays at 4pm – only at Hank’s Filling Station\, your Backyard BBQ & Booze Joint.
URL:https://hanksfillingstation.com/event/hanks-game-night-video-game-madness-every-sunday-in-august/2025-08-10/
LOCATION:Hank’s Filling Station\, 4301 Colley Ave\, Norfolk\, VA\, 23508\, United States
ATTACH;FMTTYPE=image/jpeg:https://hanksfillingstation.com/wp-content/uploads/2025/07/Hanks-Game-Night-2025-08-16x9-1.jpg
ORGANIZER;CN="Hank's Filling Station":MAILTO:marketing@hanksfillingstation.com
END:VEVENT
BEGIN:VEVENT
DTSTART;TZID=America/New_York:20250816T163000
DTEND;TZID=America/New_York:20250816T183000
DTSTAMP:20260422T094132
CREATED:20250723T192625Z
LAST-MODIFIED:20250723T192625Z
UID:10000172-1755361800-1755369000@hanksfillingstation.com
SUMMARY:Crazy DJ Music Bingo @ Hank's
DESCRIPTION:CRAZY DJ MUSIC BINGO is taking over Saturdays at Hank’s! \nEvery Saturday @ 4:30pm – it’s bingo\, but with bangers. \nYour card is full of songs\, not numbers.\nThe DJ drops the beats.\n️ You shout BINGO (and maybe sing along). \nCold beer\, smoked BBQ\, backyard games\, and some absolutely unhinged playlists. \nExpect dance breaks. Expect yelling. Expect a good time Show up early\, grab your spot\, and get loud. \nHank’s Filling Station | 4301 Colley Ave | Norfolk
URL:https://hanksfillingstation.com/event/crazy-dj-music-bingo-hanks/2025-08-16/
LOCATION:Hank’s Filling Station\, 4301 Colley Ave\, Norfolk\, VA\, 23508\, United States
ATTACH;FMTTYPE=image/jpeg:https://hanksfillingstation.com/wp-content/uploads/2025/07/Hanks-crazy-dj-music-bingo-2025-07-16x9-1.jpg
ORGANIZER;CN="Hank's Filling Station":MAILTO:marketing@hanksfillingstation.com
END:VEVENT
BEGIN:VEVENT
DTSTART;TZID=America/New_York:20250817T160000
DTEND;TZID=America/New_York:20250817T200000
DTSTAMP:20260422T094132
CREATED:20250730T174703Z
LAST-MODIFIED:20250730T174703Z
UID:10000194-1755446400-1755460800@hanksfillingstation.com
SUMMARY:Hank's Game Night: Video Game Madness Every Sunday in August!
DESCRIPTION:Sundays in August | 4-8pm | Hank’s Filling Station \nGet ready to mash some buttons and throw down in the backyard\, because Game Night is ON at Hank’s every Sunday in August! \nThis month’s theme is Video Game Madness – and we’re going all in. We’ll supply the consoles\, controllers\, and games. All you need to bring is your A-game (and maybe a few trash talk one-liners). Whether you’re a retro junkie or a modern-day joystick warrior\, there’s something for every player. \nFree to play\nClassic + modern consoles\nPrizes for winners\nBBQ + Booze flowing all night \nShow up\, show off\, and show no mercy. \nSee you Sundays at 4pm – only at Hank’s Filling Station\, your Backyard BBQ & Booze Joint.
URL:https://hanksfillingstation.com/event/hanks-game-night-video-game-madness-every-sunday-in-august/2025-08-17/
LOCATION:Hank’s Filling Station\, 4301 Colley Ave\, Norfolk\, VA\, 23508\, United States
ATTACH;FMTTYPE=image/jpeg:https://hanksfillingstation.com/wp-content/uploads/2025/07/Hanks-Game-Night-2025-08-16x9-1.jpg
ORGANIZER;CN="Hank's Filling Station":MAILTO:marketing@hanksfillingstation.com
END:VEVENT
BEGIN:VEVENT
DTSTART;TZID=America/New_York:20250820T190000
DTEND;TZID=America/New_York:20250820T203000
DTSTAMP:20260422T094132
CREATED:20250723T183913Z
LAST-MODIFIED:20251212T144744Z
UID:10000166-1755716400-1755721800@hanksfillingstation.com
SUMMARY:Hank's Trivia Theme Nights
DESCRIPTION:TRIVIA THEME NIGHTS are BACK at Hank’s! \nEvery 3rd Wednesday at 7pm – come hungry\, come clever\, come ready to rumble. \nMark these down\, BBQ brainiacs: \nJul 23 – All About The Beers! (Beer nerds unite!) \nAug 20 – Swifties vs Beyhive (Only one fandom walks away …) \nSep 17 – Marvel Masters (No casuals allowed.) \nOct 22 – Monster Mash (It’s alive … with trivia!) \nSmoked meats. Bourbon pours. Prizes on the line. \nIt’s your backyard\, your bragging rights\, your kind of Wednesday. \nTag your trivia crew and start studying \nHank’s Filling Station | 4301 Colley Ave | Norfolk
URL:https://hanksfillingstation.com/event/hanks-trivia-theme-nights/2025-08-20/
LOCATION:Hank’s Filling Station\, 4301 Colley Ave\, Norfolk\, VA\, 23508\, United States
ATTACH;FMTTYPE=image/jpeg:https://hanksfillingstation.com/wp-content/uploads/2025/07/Hanks-trivia-theme-nights-2025-07-16x9-1.jpg
ORGANIZER;CN="Hank's Filling Station":MAILTO:marketing@hanksfillingstation.com
END:VEVENT
BEGIN:VEVENT
DTSTART;TZID=America/New_York:20250823T163000
DTEND;TZID=America/New_York:20250823T183000
DTSTAMP:20260422T094132
CREATED:20250723T192625Z
LAST-MODIFIED:20250723T192625Z
UID:10000173-1755966600-1755973800@hanksfillingstation.com
SUMMARY:Crazy DJ Music Bingo @ Hank's
DESCRIPTION:CRAZY DJ MUSIC BINGO is taking over Saturdays at Hank’s! \nEvery Saturday @ 4:30pm – it’s bingo\, but with bangers. \nYour card is full of songs\, not numbers.\nThe DJ drops the beats.\n️ You shout BINGO (and maybe sing along). \nCold beer\, smoked BBQ\, backyard games\, and some absolutely unhinged playlists. \nExpect dance breaks. Expect yelling. Expect a good time Show up early\, grab your spot\, and get loud. \nHank’s Filling Station | 4301 Colley Ave | Norfolk
URL:https://hanksfillingstation.com/event/crazy-dj-music-bingo-hanks/2025-08-23/
LOCATION:Hank’s Filling Station\, 4301 Colley Ave\, Norfolk\, VA\, 23508\, United States
ATTACH;FMTTYPE=image/jpeg:https://hanksfillingstation.com/wp-content/uploads/2025/07/Hanks-crazy-dj-music-bingo-2025-07-16x9-1.jpg
ORGANIZER;CN="Hank's Filling Station":MAILTO:marketing@hanksfillingstation.com
END:VEVENT
BEGIN:VEVENT
DTSTART;TZID=America/New_York:20250824T160000
DTEND;TZID=America/New_York:20250824T200000
DTSTAMP:20260422T094132
CREATED:20250730T174703Z
LAST-MODIFIED:20250730T174703Z
UID:10000195-1756051200-1756065600@hanksfillingstation.com
SUMMARY:Hank's Game Night: Video Game Madness Every Sunday in August!
DESCRIPTION:Sundays in August | 4-8pm | Hank’s Filling Station \nGet ready to mash some buttons and throw down in the backyard\, because Game Night is ON at Hank’s every Sunday in August! \nThis month’s theme is Video Game Madness – and we’re going all in. We’ll supply the consoles\, controllers\, and games. All you need to bring is your A-game (and maybe a few trash talk one-liners). Whether you’re a retro junkie or a modern-day joystick warrior\, there’s something for every player. \nFree to play\nClassic + modern consoles\nPrizes for winners\nBBQ + Booze flowing all night \nShow up\, show off\, and show no mercy. \nSee you Sundays at 4pm – only at Hank’s Filling Station\, your Backyard BBQ & Booze Joint.
URL:https://hanksfillingstation.com/event/hanks-game-night-video-game-madness-every-sunday-in-august/2025-08-24/
LOCATION:Hank’s Filling Station\, 4301 Colley Ave\, Norfolk\, VA\, 23508\, United States
ATTACH;FMTTYPE=image/jpeg:https://hanksfillingstation.com/wp-content/uploads/2025/07/Hanks-Game-Night-2025-08-16x9-1.jpg
ORGANIZER;CN="Hank's Filling Station":MAILTO:marketing@hanksfillingstation.com
END:VEVENT
BEGIN:VEVENT
DTSTART;TZID=America/New_York:20250830T163000
DTEND;TZID=America/New_York:20250830T183000
DTSTAMP:20260422T094132
CREATED:20250723T192625Z
LAST-MODIFIED:20250723T192625Z
UID:10000174-1756571400-1756578600@hanksfillingstation.com
SUMMARY:Crazy DJ Music Bingo @ Hank's
DESCRIPTION:CRAZY DJ MUSIC BINGO is taking over Saturdays at Hank’s! \nEvery Saturday @ 4:30pm – it’s bingo\, but with bangers. \nYour card is full of songs\, not numbers.\nThe DJ drops the beats.\n️ You shout BINGO (and maybe sing along). \nCold beer\, smoked BBQ\, backyard games\, and some absolutely unhinged playlists. \nExpect dance breaks. Expect yelling. Expect a good time Show up early\, grab your spot\, and get loud. \nHank’s Filling Station | 4301 Colley Ave | Norfolk
URL:https://hanksfillingstation.com/event/crazy-dj-music-bingo-hanks/2025-08-30/
LOCATION:Hank’s Filling Station\, 4301 Colley Ave\, Norfolk\, VA\, 23508\, United States
ATTACH;FMTTYPE=image/jpeg:https://hanksfillingstation.com/wp-content/uploads/2025/07/Hanks-crazy-dj-music-bingo-2025-07-16x9-1.jpg
ORGANIZER;CN="Hank's Filling Station":MAILTO:marketing@hanksfillingstation.com
END:VEVENT
BEGIN:VEVENT
DTSTART;TZID=America/New_York:20250831T160000
DTEND;TZID=America/New_York:20250831T200000
DTSTAMP:20260422T094132
CREATED:20250730T174703Z
LAST-MODIFIED:20250730T174703Z
UID:10000196-1756656000-1756670400@hanksfillingstation.com
SUMMARY:Hank's Game Night: Video Game Madness Every Sunday in August!
DESCRIPTION:Sundays in August | 4-8pm | Hank’s Filling Station \nGet ready to mash some buttons and throw down in the backyard\, because Game Night is ON at Hank’s every Sunday in August! \nThis month’s theme is Video Game Madness – and we’re going all in. We’ll supply the consoles\, controllers\, and games. All you need to bring is your A-game (and maybe a few trash talk one-liners). Whether you’re a retro junkie or a modern-day joystick warrior\, there’s something for every player. \nFree to play\nClassic + modern consoles\nPrizes for winners\nBBQ + Booze flowing all night \nShow up\, show off\, and show no mercy. \nSee you Sundays at 4pm – only at Hank’s Filling Station\, your Backyard BBQ & Booze Joint.
URL:https://hanksfillingstation.com/event/hanks-game-night-video-game-madness-every-sunday-in-august/2025-08-31/
LOCATION:Hank’s Filling Station\, 4301 Colley Ave\, Norfolk\, VA\, 23508\, United States
ATTACH;FMTTYPE=image/jpeg:https://hanksfillingstation.com/wp-content/uploads/2025/07/Hanks-Game-Night-2025-08-16x9-1.jpg
ORGANIZER;CN="Hank's Filling Station":MAILTO:marketing@hanksfillingstation.com
END:VEVENT
END:VCALENDAR