BEGIN:VCALENDAR
VERSION:2.0
PRODID:-//Hank's Filling Station - ECPv6.15.20//NONSGML v1.0//EN
CALSCALE:GREGORIAN
METHOD:PUBLISH
X-WR-CALNAME:Hank's Filling Station
X-ORIGINAL-URL:https://hanksfillingstation.com
X-WR-CALDESC:Events for Hank's Filling Station
REFRESH-INTERVAL;VALUE=DURATION:PT1H
X-Robots-Tag:noindex
X-PUBLISHED-TTL:PT1H
BEGIN:VTIMEZONE
TZID:America/New_York
BEGIN:DAYLIGHT
TZOFFSETFROM:-0500
TZOFFSETTO:-0400
TZNAME:EDT
DTSTART:20240310T070000
END:DAYLIGHT
BEGIN:STANDARD
TZOFFSETFROM:-0400
TZOFFSETTO:-0500
TZNAME:EST
DTSTART:20241103T060000
END:STANDARD
BEGIN:DAYLIGHT
TZOFFSETFROM:-0500
TZOFFSETTO:-0400
TZNAME:EDT
DTSTART:20250309T070000
END:DAYLIGHT
BEGIN:STANDARD
TZOFFSETFROM:-0400
TZOFFSETTO:-0500
TZNAME:EST
DTSTART:20251102T060000
END:STANDARD
BEGIN:DAYLIGHT
TZOFFSETFROM:-0500
TZOFFSETTO:-0400
TZNAME:EDT
DTSTART:20260308T070000
END:DAYLIGHT
BEGIN:STANDARD
TZOFFSETFROM:-0400
TZOFFSETTO:-0500
TZNAME:EST
DTSTART:20261101T060000
END:STANDARD
END:VTIMEZONE
BEGIN:VEVENT
DTSTART;TZID=America/New_York:20250906T163000
DTEND;TZID=America/New_York:20250906T183000
DTSTAMP:20260422T080156
CREATED:20250723T192625Z
LAST-MODIFIED:20250723T192625Z
UID:10000175-1757176200-1757183400@hanksfillingstation.com
SUMMARY:Crazy DJ Music Bingo @ Hank's
DESCRIPTION:CRAZY DJ MUSIC BINGO is taking over Saturdays at Hank’s! \nEvery Saturday @ 4:30pm – it’s bingo\, but with bangers. \nYour card is full of songs\, not numbers.\nThe DJ drops the beats.\n️ You shout BINGO (and maybe sing along). \nCold beer\, smoked BBQ\, backyard games\, and some absolutely unhinged playlists. \nExpect dance breaks. Expect yelling. Expect a good time Show up early\, grab your spot\, and get loud. \nHank’s Filling Station | 4301 Colley Ave | Norfolk
URL:https://hanksfillingstation.com/event/crazy-dj-music-bingo-hanks/2025-09-06/
LOCATION:Hank’s Filling Station\, 4301 Colley Ave\, Norfolk\, VA\, 23508\, United States
ATTACH;FMTTYPE=image/jpeg:https://hanksfillingstation.com/wp-content/uploads/2025/07/Hanks-crazy-dj-music-bingo-2025-07-16x9-1.jpg
ORGANIZER;CN="Hank's Filling Station":MAILTO:marketing@hanksfillingstation.com
END:VEVENT
BEGIN:VEVENT
DTSTART;TZID=America/New_York:20250913T163000
DTEND;TZID=America/New_York:20250913T183000
DTSTAMP:20260422T080156
CREATED:20250723T192625Z
LAST-MODIFIED:20250723T192625Z
UID:10000176-1757781000-1757788200@hanksfillingstation.com
SUMMARY:Crazy DJ Music Bingo @ Hank's
DESCRIPTION:CRAZY DJ MUSIC BINGO is taking over Saturdays at Hank’s! \nEvery Saturday @ 4:30pm – it’s bingo\, but with bangers. \nYour card is full of songs\, not numbers.\nThe DJ drops the beats.\n️ You shout BINGO (and maybe sing along). \nCold beer\, smoked BBQ\, backyard games\, and some absolutely unhinged playlists. \nExpect dance breaks. Expect yelling. Expect a good time Show up early\, grab your spot\, and get loud. \nHank’s Filling Station | 4301 Colley Ave | Norfolk
URL:https://hanksfillingstation.com/event/crazy-dj-music-bingo-hanks/2025-09-13/
LOCATION:Hank’s Filling Station\, 4301 Colley Ave\, Norfolk\, VA\, 23508\, United States
ATTACH;FMTTYPE=image/jpeg:https://hanksfillingstation.com/wp-content/uploads/2025/07/Hanks-crazy-dj-music-bingo-2025-07-16x9-1.jpg
ORGANIZER;CN="Hank's Filling Station":MAILTO:marketing@hanksfillingstation.com
END:VEVENT
BEGIN:VEVENT
DTSTART;TZID=America/New_York:20250917T190000
DTEND;TZID=America/New_York:20250917T203000
DTSTAMP:20260422T080156
CREATED:20250723T183913Z
LAST-MODIFIED:20251212T144744Z
UID:10000167-1758135600-1758141000@hanksfillingstation.com
SUMMARY:Hank's Trivia Theme Nights
DESCRIPTION:TRIVIA THEME NIGHTS are BACK at Hank’s! \nEvery 3rd Wednesday at 7pm – come hungry\, come clever\, come ready to rumble. \nMark these down\, BBQ brainiacs: \nJul 23 – All About The Beers! (Beer nerds unite!) \nAug 20 – Swifties vs Beyhive (Only one fandom walks away …) \nSep 17 – Marvel Masters (No casuals allowed.) \nOct 22 – Monster Mash (It’s alive … with trivia!) \nSmoked meats. Bourbon pours. Prizes on the line. \nIt’s your backyard\, your bragging rights\, your kind of Wednesday. \nTag your trivia crew and start studying \nHank’s Filling Station | 4301 Colley Ave | Norfolk
URL:https://hanksfillingstation.com/event/hanks-trivia-theme-nights/2025-09-17/
LOCATION:Hank’s Filling Station\, 4301 Colley Ave\, Norfolk\, VA\, 23508\, United States
ATTACH;FMTTYPE=image/jpeg:https://hanksfillingstation.com/wp-content/uploads/2025/07/Hanks-trivia-theme-nights-2025-07-16x9-1.jpg
ORGANIZER;CN="Hank's Filling Station":MAILTO:marketing@hanksfillingstation.com
END:VEVENT
BEGIN:VEVENT
DTSTART;TZID=America/New_York:20250920T163000
DTEND;TZID=America/New_York:20250920T183000
DTSTAMP:20260422T080156
CREATED:20250723T192625Z
LAST-MODIFIED:20250723T192625Z
UID:10000177-1758385800-1758393000@hanksfillingstation.com
SUMMARY:Crazy DJ Music Bingo @ Hank's
DESCRIPTION:CRAZY DJ MUSIC BINGO is taking over Saturdays at Hank’s! \nEvery Saturday @ 4:30pm – it’s bingo\, but with bangers. \nYour card is full of songs\, not numbers.\nThe DJ drops the beats.\n️ You shout BINGO (and maybe sing along). \nCold beer\, smoked BBQ\, backyard games\, and some absolutely unhinged playlists. \nExpect dance breaks. Expect yelling. Expect a good time Show up early\, grab your spot\, and get loud. \nHank’s Filling Station | 4301 Colley Ave | Norfolk
URL:https://hanksfillingstation.com/event/crazy-dj-music-bingo-hanks/2025-09-20/
LOCATION:Hank’s Filling Station\, 4301 Colley Ave\, Norfolk\, VA\, 23508\, United States
ATTACH;FMTTYPE=image/jpeg:https://hanksfillingstation.com/wp-content/uploads/2025/07/Hanks-crazy-dj-music-bingo-2025-07-16x9-1.jpg
ORGANIZER;CN="Hank's Filling Station":MAILTO:marketing@hanksfillingstation.com
END:VEVENT
BEGIN:VEVENT
DTSTART;TZID=America/New_York:20250927T163000
DTEND;TZID=America/New_York:20250927T183000
DTSTAMP:20260422T080156
CREATED:20250723T192625Z
LAST-MODIFIED:20250723T192625Z
UID:10000178-1758990600-1758997800@hanksfillingstation.com
SUMMARY:Crazy DJ Music Bingo @ Hank's
DESCRIPTION:CRAZY DJ MUSIC BINGO is taking over Saturdays at Hank’s! \nEvery Saturday @ 4:30pm – it’s bingo\, but with bangers. \nYour card is full of songs\, not numbers.\nThe DJ drops the beats.\n️ You shout BINGO (and maybe sing along). \nCold beer\, smoked BBQ\, backyard games\, and some absolutely unhinged playlists. \nExpect dance breaks. Expect yelling. Expect a good time Show up early\, grab your spot\, and get loud. \nHank’s Filling Station | 4301 Colley Ave | Norfolk
URL:https://hanksfillingstation.com/event/crazy-dj-music-bingo-hanks/2025-09-27/
LOCATION:Hank’s Filling Station\, 4301 Colley Ave\, Norfolk\, VA\, 23508\, United States
ATTACH;FMTTYPE=image/jpeg:https://hanksfillingstation.com/wp-content/uploads/2025/07/Hanks-crazy-dj-music-bingo-2025-07-16x9-1.jpg
ORGANIZER;CN="Hank's Filling Station":MAILTO:marketing@hanksfillingstation.com
END:VEVENT
END:VCALENDAR